BEGIN:VCALENDAR
VERSION:2.0
PRODID:-//Cornish Craft Barn - ECPv6.15.20//NONSGML v1.0//EN
CALSCALE:GREGORIAN
METHOD:PUBLISH
X-ORIGINAL-URL:https://cornishcraftbarn.com
X-WR-CALDESC:Events for Cornish Craft Barn
REFRESH-INTERVAL;VALUE=DURATION:PT1H
X-Robots-Tag:noindex
X-PUBLISHED-TTL:PT1H
BEGIN:VTIMEZONE
TZID:Europe/London
BEGIN:DAYLIGHT
TZOFFSETFROM:+0000
TZOFFSETTO:+0100
TZNAME:BST
DTSTART:20250330T010000
END:DAYLIGHT
BEGIN:STANDARD
TZOFFSETFROM:+0100
TZOFFSETTO:+0000
TZNAME:GMT
DTSTART:20251026T010000
END:STANDARD
BEGIN:DAYLIGHT
TZOFFSETFROM:+0000
TZOFFSETTO:+0100
TZNAME:BST
DTSTART:20260329T010000
END:DAYLIGHT
BEGIN:STANDARD
TZOFFSETFROM:+0100
TZOFFSETTO:+0000
TZNAME:GMT
DTSTART:20261025T010000
END:STANDARD
BEGIN:DAYLIGHT
TZOFFSETFROM:+0000
TZOFFSETTO:+0100
TZNAME:BST
DTSTART:20270328T010000
END:DAYLIGHT
BEGIN:STANDARD
TZOFFSETFROM:+0100
TZOFFSETTO:+0000
TZNAME:GMT
DTSTART:20271031T010000
END:STANDARD
END:VTIMEZONE
BEGIN:VEVENT
DTSTART;TZID=Europe/London:20260317T100000
DTEND;TZID=Europe/London:20260317T130000
DTSTAMP:20260423T065516
CREATED:20260316T125534Z
LAST-MODIFIED:20260316T152351Z
UID:10000025-1773741600-1773752400@cornishcraftbarn.com
SUMMARY:NEW!! ART CLUB: Open to new members For March 2026
DESCRIPTION:
URL:https://cornishcraftbarn.com/event/new-art-club-open-to-new-members-for-march-2026-3/
LOCATION:Cornish Craft Barn\, The Gwel\, Kea Downs Road\, Blackwater\, Truro\, Cornwall\, TR4 8PA\, United Kingdom
CATEGORIES:Acrylics,Art,Club,Inks,Mixed Media,Watercolour,Workshop
ATTACH;FMTTYPE=image/jpeg:https://cornishcraftbarn.com/wp-content/uploads/2026/03/Art-Club-Tuesdays-Banner.jpg
END:VEVENT
END:VCALENDAR