BEGIN:VCALENDAR
VERSION:2.0
PRODID:-//Cornish Craft Barn - ECPv6.15.20//NONSGML v1.0//EN
CALSCALE:GREGORIAN
METHOD:PUBLISH
X-ORIGINAL-URL:https://cornishcraftbarn.com
X-WR-CALDESC:Events for Cornish Craft Barn
REFRESH-INTERVAL;VALUE=DURATION:PT1H
X-Robots-Tag:noindex
X-PUBLISHED-TTL:PT1H
BEGIN:VTIMEZONE
TZID:Europe/London
BEGIN:DAYLIGHT
TZOFFSETFROM:+0000
TZOFFSETTO:+0100
TZNAME:BST
DTSTART:20250330T010000
END:DAYLIGHT
BEGIN:STANDARD
TZOFFSETFROM:+0100
TZOFFSETTO:+0000
TZNAME:GMT
DTSTART:20251026T010000
END:STANDARD
BEGIN:DAYLIGHT
TZOFFSETFROM:+0000
TZOFFSETTO:+0100
TZNAME:BST
DTSTART:20260329T010000
END:DAYLIGHT
BEGIN:STANDARD
TZOFFSETFROM:+0100
TZOFFSETTO:+0000
TZNAME:GMT
DTSTART:20261025T010000
END:STANDARD
BEGIN:DAYLIGHT
TZOFFSETFROM:+0000
TZOFFSETTO:+0100
TZNAME:BST
DTSTART:20270328T010000
END:DAYLIGHT
BEGIN:STANDARD
TZOFFSETFROM:+0100
TZOFFSETTO:+0000
TZNAME:GMT
DTSTART:20271031T010000
END:STANDARD
END:VTIMEZONE
BEGIN:VEVENT
DTSTART;TZID=Europe/London:20260319T100000
DTEND;TZID=Europe/London:20260319T160000
DTSTAMP:20260423T062833
CREATED:20260316T125546Z
LAST-MODIFIED:20260316T171454Z
UID:10000029-1773914400-1773936000@cornishcraftbarn.com
SUMMARY:Wheal Friendly Stitch Club - 3rd Thursday Monthly
DESCRIPTION:Welcome to one of our many Cornish Craft Barn Stitch Groups. We run several regular groups that meet once a month.  If you’re interested in joining one\, please contact us or book in to attend if we have spaces available.   \n\n\n\nThis is an all-day session where you can work on quilting projects on machines or by hand with other quilters who are looking to share ideas and experience and can provide guidance for each other – plus lots of lovely chat\, cake and coffee!  It is not a ‘tutored’ session but a room filled with abundant expertise from which to seek assistance. We can offer short demonstrations or mini projects from time to time if this is something the group decides they want!  \n\n\n\nThe session runs from 10am – 4pm but feel free to attend as much of this as you can to fit in with your other commitments. Lunch can be bought from the cafe with a 10% discount.  Plenty of parking outside and we can give you a hand to get your machines upstairs to the training room if needed.  \n\n\n\nWe have several new Janome quilting sewing machines available to borrow for the day if you need one or find it easier than bringing one in from home. The cost is £4 per day. Please book ahead or let us know if you need one so we make sure we have enough available. We ask for payment quarterly in advance £15 per session\, so £45 which covers three sessions for you. We close for August s
URL:https://cornishcraftbarn.com/event/wheal-friendly-stitch-club-3rd-thursday-monthly/
LOCATION:Cornish Craft Barn\, The Gwel\, Kea Downs Road\, Blackwater\, Truro\, Cornwall\, TR4 8PA\, United Kingdom
CATEGORIES:Crafting,Quilting,Sewing & Textiles,Textiles
ATTACH;FMTTYPE=image/jpeg:https://cornishcraftbarn.com/wp-content/uploads/2026/03/Wheal-Friendly-Banner-Sewing-1.jpg
END:VEVENT
BEGIN:VEVENT
DTSTART;TZID=Europe/London:20260323T100000
DTEND;TZID=Europe/London:20260323T150000
DTSTAMP:20260423T062833
CREATED:20260316T125548Z
LAST-MODIFIED:20260316T171454Z
UID:10000031-1774260000-1774278000@cornishcraftbarn.com
SUMMARY:How to use your sewing machine
DESCRIPTION:Let’s get sewing….one day workshop to give you confidence and unleash your creativity \n\n\n\n\n\nDo you have a machine gathering dust? Lost under the stairs?  \n\n\n\nWant to sew but don’t know where to start? Put off by the thought of trying to use your machine?  \n\n\n\nThen this workshop is for you!!  \n\n\n\nWe’ll have a fun and relaxed day exploring the functions and features of sewing machines and learn what they can do and start to learn how to make and create gifts and items using fabric and cotton.
URL:https://cornishcraftbarn.com/event/how-to-use-your-sewing-machine/
LOCATION:Cornish Craft Barn\, The Gwel\, Kea Downs Road\, Blackwater\, Truro\, Cornwall\, TR4 8PA\, United Kingdom
CATEGORIES:Crafting,Quilting,Textiles
ATTACH;FMTTYPE=image/jpeg:https://cornishcraftbarn.com/wp-content/uploads/2026/03/detailed-view-of-a-hand-operating-a-sewing-machine-with-fine-thread.-6660915-scaled-1.jpg
END:VEVENT
BEGIN:VEVENT
DTSTART;TZID=Europe/London:20260331T100000
DTEND;TZID=Europe/London:20260331T120000
DTSTAMP:20260423T062833
CREATED:20260322T111326Z
LAST-MODIFIED:20260322T173910Z
UID:10000057-1774951200-1774958400@cornishcraftbarn.com
SUMMARY:Botanical Easter Workshop
DESCRIPTION:Join us for a relaxed and friendly morning learning how to create your own Botanical masterpiece! \nYou’ll be taught to decorate a wreath base with an abundance of fresh Cornish flowers and foliage from the garden. Your finished wreath can be used as a door decoration\, a gift\, a table centre for Easter\, or made in memory of a loved one. \nCome on your own\, with a friend\, or with your partner and enjoy a welcoming atmosphere with refreshments \nAll materials and equipment are provided\, with step-by-step guidance\, so no previous experience is needed. We’ll provide all tools and materials\, along with a delicious cheeseboard and wine with non alcoholic option available \nAs a Cornish wreath maker\, I take pride in crafting designs that celebrate the natural\, wild charm of our beautiful local landscape. Each wreath and arrangement is thoughtfully made using fresh\, locally grown or foraged flowers & foliage to ensure there is unique & sustainable content to every piece. My designs are inspired by the changing seasons\, the Cornish hedgerows\, woodland\, coast paths and coves\, aiming to bring the wild beauty of Cornwall into your home. \nAngela\, the Cornish Wreath Maker \n£40.00 Includes cake from our cafe and tea/coffee \nExtra Info: Step by step guidance with all materials and equipment provided. No previous crafting experience is needed. All the flowers\, foliage and fruits are home grown and / or foraged personally by Angela. Refreshments provided as part of the workshop price. All necessary instruction is provided in our beautiful light and airy workshop space. Learn how to create this beautiful unique wreath in a single\, satisfying session.
URL:https://cornishcraftbarn.com/event/botanical-easter-workshop/
LOCATION:Cornish Craft Barn\, The Gwel\, Kea Downs Road\, Blackwater\, Truro\, Cornwall\, TR4 8PA\, United Kingdom
CATEGORIES:Botanical,Textiles
ATTACH;FMTTYPE=image/jpeg:https://cornishcraftbarn.com/wp-content/uploads/2026/03/IMG_6268.jpeg
END:VEVENT
END:VCALENDAR