BEGIN:VCALENDAR
VERSION:2.0
PRODID:-//Cornish Craft Barn - ECPv6.15.20//NONSGML v1.0//EN
CALSCALE:GREGORIAN
METHOD:PUBLISH
X-ORIGINAL-URL:https://cornishcraftbarn.com
X-WR-CALDESC:Events for Cornish Craft Barn
REFRESH-INTERVAL;VALUE=DURATION:PT1H
X-Robots-Tag:noindex
X-PUBLISHED-TTL:PT1H
BEGIN:VTIMEZONE
TZID:Europe/London
BEGIN:DAYLIGHT
TZOFFSETFROM:+0000
TZOFFSETTO:+0100
TZNAME:BST
DTSTART:20250330T010000
END:DAYLIGHT
BEGIN:STANDARD
TZOFFSETFROM:+0100
TZOFFSETTO:+0000
TZNAME:GMT
DTSTART:20251026T010000
END:STANDARD
BEGIN:DAYLIGHT
TZOFFSETFROM:+0000
TZOFFSETTO:+0100
TZNAME:BST
DTSTART:20260329T010000
END:DAYLIGHT
BEGIN:STANDARD
TZOFFSETFROM:+0100
TZOFFSETTO:+0000
TZNAME:GMT
DTSTART:20261025T010000
END:STANDARD
BEGIN:DAYLIGHT
TZOFFSETFROM:+0000
TZOFFSETTO:+0100
TZNAME:BST
DTSTART:20270328T010000
END:DAYLIGHT
BEGIN:STANDARD
TZOFFSETFROM:+0100
TZOFFSETTO:+0000
TZNAME:GMT
DTSTART:20271031T010000
END:STANDARD
END:VTIMEZONE
BEGIN:VEVENT
DTSTART;TZID=Europe/London:20260421T100000
DTEND;TZID=Europe/London:20260421T130000
DTSTAMP:20260423T045833
CREATED:20260316T125603Z
LAST-MODIFIED:20260412T174444Z
UID:10000039-1776765600-1776776400@cornishcraftbarn.com
SUMMARY:Bold\, Fast & Loose Watercolour - Beginners £29 Half Day Workshop!
DESCRIPTION:We will spend a fun-filled half-day immersed in the world of bold\, fast and loose watercolour\, with a particular focus on wet-in-wet applications to create vibrant pieces that are pleasing to the eye and evoke a smile. By the end of the morning\, we will have completed several mini-project exercises and created various pieces\, varying in subject matter.  \n\n\n\n\nAbstract loose works\n\n\n\nVibrant art\n\n\n\nPleasing results quickly! \n\n\n\n\n\nNo previous experience is necessary; kick-start a new watercolour habit here. You will develop a watercolour confidence\, which you can take away or top up on a follow-up workshop with us at the Cornish Craft Barn. \n\n\n\n\n\n\n\n\nThe morning will be filled with fast-paced learning exercises from the start\, featuring mini-tutorials to engage and guide you forward at a steady pace\, making significant strides in your watercolour confidence and control. By the end of the session\, you will be in control of what happens on your pape
URL:https://cornishcraftbarn.com/event/bold-fast-loose-watercolour-beginners-29-half-day-workshop/
LOCATION:Cornish Craft Barn\, The Gwel\, Kea Downs Road\, Blackwater\, Truro\, Cornwall\, TR4 8PA\, United Kingdom
CATEGORIES:Watercolour
ATTACH;FMTTYPE=image/jpeg:https://cornishcraftbarn.com/wp-content/uploads/2026/03/Watercolour-BFL.jpg
END:VEVENT
BEGIN:VEVENT
DTSTART;TZID=Europe/London:20260325T100000
DTEND;TZID=Europe/London:20260325T150000
DTSTAMP:20260423T045833
CREATED:20260316T125548Z
LAST-MODIFIED:20260316T171453Z
UID:10000032-1774432800-1774450800@cornishcraftbarn.com
SUMMARY:Watercolour Essentials (Extended Edition) - £49 Day Workshop!
DESCRIPTION:From zero to watercolour hero! We will spend a fun-filled extended day immersed in the world of watercolour. By the end of the day\, you will have developed complete confidence in watercolour\, which you can take away and apply to ideas and projects you have ready or begin using for some journaling\, home and abroad. No previous experience is necessary; kick-start a new watercolour habit here. \n\n\n\nThe morning will be filled with fast-paced learning exercises from the start\, featuring mini-tutorials to engage and guide you forward at a steady pace\, making significant strides in your watercolour confidence and control. In the afternoon we will take on landscape work\, washes\, skies and water. By the end of the session\, you will be in control of what happens on your paper\, not chance!
URL:https://cornishcraftbarn.com/event/watercolour-essentials-extended-edition-49-day-workshop/
LOCATION:Cornish Craft Barn\, The Gwel\, Kea Downs Road\, Blackwater\, Truro\, Cornwall\, TR4 8PA\, United Kingdom
CATEGORIES:Watercolour
ATTACH;FMTTYPE=image/jpeg:https://cornishcraftbarn.com/wp-content/uploads/2026/03/Watercolour-Promo-New-O.jpg
END:VEVENT
BEGIN:VEVENT
DTSTART;TZID=Europe/London:20260318T093000
DTEND;TZID=Europe/London:20260318T123000
DTSTAMP:20260423T045833
CREATED:20260316T125544Z
LAST-MODIFIED:20260316T132048Z
UID:10000027-1773826200-1773837000@cornishcraftbarn.com
SUMMARY:Bold\, Fast & Loose Watercolour Workshop
DESCRIPTION:We will spend a fun-filled half-day immersed in the world of bold\, fast and loose watercolour\, with a particular focus on wet-in-wet applications to create vibrant pieces that are pleasing to the eye and evoke a smile. By the end of the afternoon\, we will have completed several mini-project exercises and created various pieces\, varying in subject matter.
URL:https://cornishcraftbarn.com/event/bold-fast-loose-watercolour-workshop/
LOCATION:Cornish Craft Barn\, The Gwel\, Kea Downs Road\, Blackwater\, Truro\, Cornwall\, TR4 8PA\, United Kingdom
CATEGORIES:Watercolour
ATTACH;FMTTYPE=image/jpeg:https://cornishcraftbarn.com/wp-content/uploads/2026/03/3.jpg
END:VEVENT
BEGIN:VEVENT
DTSTART;TZID=Europe/London:20260317T140000
DTEND;TZID=Europe/London:20260317T170000
DTSTAMP:20260423T045833
CREATED:20260316T125535Z
LAST-MODIFIED:20260324T164337Z
UID:10000026-1773756000-1773766800@cornishcraftbarn.com
SUMMARY:Watercolour Ink & Wash Travel Journalling Half Day Workshop!
DESCRIPTION:Learn to ink and wash like Danny Gregory and Felix Scheinburger. Capture your memories\, whether daily journalling\, meals and experiences out and about or a journal dedicated to your travel trips. \n\n<!– wp:kadence/advancedgallery {“uniqueID”:”15838_b22560-7c”\,”ids”:[14968\,14966\,14967]\,”imagesDynamic”:[{“id”:14968\,”link”:”https://bobbinandbrush.com/event/watercolour-travel-journalling-beginners-29-half-day-workshop/scheinburger-venice-stmarco/”\,”alt”:”Cornish Craft Barn Travel Journalling Ink Wash 3″\,”caption”:”Cornish Craft Barn Travel Journalling Ink Wash 3″\,”url”:”https://bobbinandbrush.com/wp-content/uploads/2025/09/Scheinburger-Venice-StMarco.png”\,”customLink”:””\,”linkTarget”:””\,”linkSponsored”:””\,”thumbUrl”:”https://bobbinandbrush.com/wp-content/uploads/2025/09/Scheinburger-Venice-StMarco-759×1024.png”\,”lightUrl”:”https://bobbinandbrush.com/wp-content/uploads/2025/09/Scheinburger-Venice-StMarco.png”\,”width”:759\,”height”:1024}\,{“id”:14966\,”link”:”https://bobbinandbrush.com/event/watercolour-travel-journalling-beginners-29-half-day-workshop/danny-gregory-crab/”\,”alt”:”Cornish Craft Barn Travel Journalling Ink Wash”\,”caption”:”Cornish Craft Barn Travel Journalling Ink Wash”\,”url”:”https://bobbinandbrush.com/wp-content/uploads/2025/09/Danny-Gregory-Crab.png”\,”customLink”:””\,”linkTarget”:””\,”linkSponsored”:””\,”thumbUrl”:”https://bobbinandbrush.com/wp-content/uploads/2025/09/Danny-Gregory-Crab-906×1024.png”\,”lightUrl”:”https://bobbinandbrush.com/wp-content/uploads/2025/09/Danny-Gregory-Crab.png”\,”width”:906\,”height”:1024}\,{“id”:14967\,”link”:”https://bobbinandbrush.com/event/watercolour-travel-journalling-beginners-29-half-day-workshop/scheinburger-venice-gondala/”\,”alt”:”Cornish Craft Barn Travel Journalling Ink Wash 2″\,”caption”:”Cornish Craft Barn Travel Journalling Ink Wash 2″\,”url”:”http
URL:https://cornishcraftbarn.com/event/watercolour-ink-wash-travel-journalling-half-day-workshop/
LOCATION:Cornish Craft Barn\, The Gwel\, Kea Downs Road\, Blackwater\, Truro\, Cornwall\, TR4 8PA\, United Kingdom
CATEGORIES:Inks,Watercolour
ATTACH;FMTTYPE=image/jpeg:https://cornishcraftbarn.com/wp-content/uploads/2026/03/Watercolour-Travel-Journalling1920x1080.jpg
END:VEVENT
BEGIN:VEVENT
DTSTART;TZID=Europe/London:20260317T100000
DTEND;TZID=Europe/London:20260317T130000
DTSTAMP:20260423T045833
CREATED:20260316T125534Z
LAST-MODIFIED:20260316T152351Z
UID:10000025-1773741600-1773752400@cornishcraftbarn.com
SUMMARY:NEW!! ART CLUB: Open to new members For March 2026
DESCRIPTION:
URL:https://cornishcraftbarn.com/event/new-art-club-open-to-new-members-for-march-2026-3/
LOCATION:Cornish Craft Barn\, The Gwel\, Kea Downs Road\, Blackwater\, Truro\, Cornwall\, TR4 8PA\, United Kingdom
CATEGORIES:Acrylics,Art,Club,Inks,Mixed Media,Watercolour,Workshop
ATTACH;FMTTYPE=image/jpeg:https://cornishcraftbarn.com/wp-content/uploads/2026/03/Art-Club-Tuesdays-Banner.jpg
END:VEVENT
END:VCALENDAR