BEGIN:VCALENDAR
VERSION:2.0
PRODID:-//Cornish Craft Barn - ECPv6.15.20//NONSGML v1.0//EN
CALSCALE:GREGORIAN
METHOD:PUBLISH
X-ORIGINAL-URL:https://cornishcraftbarn.com
X-WR-CALDESC:Events for Cornish Craft Barn
REFRESH-INTERVAL;VALUE=DURATION:PT1H
X-Robots-Tag:noindex
X-PUBLISHED-TTL:PT1H
BEGIN:VTIMEZONE
TZID:Europe/London
BEGIN:DAYLIGHT
TZOFFSETFROM:+0000
TZOFFSETTO:+0100
TZNAME:BST
DTSTART:20250330T010000
END:DAYLIGHT
BEGIN:STANDARD
TZOFFSETFROM:+0100
TZOFFSETTO:+0000
TZNAME:GMT
DTSTART:20251026T010000
END:STANDARD
BEGIN:DAYLIGHT
TZOFFSETFROM:+0000
TZOFFSETTO:+0100
TZNAME:BST
DTSTART:20260329T010000
END:DAYLIGHT
BEGIN:STANDARD
TZOFFSETFROM:+0100
TZOFFSETTO:+0000
TZNAME:GMT
DTSTART:20261025T010000
END:STANDARD
BEGIN:DAYLIGHT
TZOFFSETFROM:+0000
TZOFFSETTO:+0100
TZNAME:BST
DTSTART:20270328T010000
END:DAYLIGHT
BEGIN:STANDARD
TZOFFSETFROM:+0100
TZOFFSETTO:+0000
TZNAME:GMT
DTSTART:20271031T010000
END:STANDARD
END:VTIMEZONE
BEGIN:VEVENT
DTSTART;TZID=Europe/London:20260428T100000
DTEND;TZID=Europe/London:20260428T150000
DTSTAMP:20260423T034124
CREATED:20260419T175544Z
LAST-MODIFIED:20260420T082051Z
UID:10000164-1777370400-1777388400@cornishcraftbarn.com
SUMMARY:Bag Club – New Monthly Meet-up!
DESCRIPTION:New Monthly Meet-up! \n\n\n\nBag Club at The Cornish Craft Barn \n\n\n\n\n\n\n\n\n\n£30.00 Includes cake from our cafe and tea/coffee \n\n\n\nCalling all sewists\, makers\, and “I-need-more-pockets” enthusiasts! Whether you’re a seasoned pro or have never touched a sewing machine\, we’re launching a brand new monthly Bag Club. \n\n\n\nEvery month\, we’ll gather at the Barn to: \n\n\n\n\nWork on Your Own Projects: Bring that half-finished tote or that favorite repair you’ve been meaning to get to.\n\n\n\nThe Group Project: We’ll sometimes also work together on a simple\, fun bag project—perfect for learning new skills in a relaxed environment.\n\n\n\nTalk Shop: Hardware\, fabrics\, patterns\, and inspiration—all things bag-related!\n\n\n\nAccess our resources\, patterns\, industrial sewing machine\, overlocker\, rivet press etc to help your bag making get that professional edge.\n\n\n\n\nOn 28 April if you would like to take part we will be making a pocket tote bag\, this is optional if you want to work on your own projects that’s fine too. The tote bag doesnt need any hardward but will need : Lining/Outer: 1m\, Pockets: 0.7m Straps: 0.3m cotton fabric or straps or webbing\, Interfacing: 1m of fusible medium-weight interfacing.
URL:https://cornishcraftbarn.com/event/bag-club-new-monthly-meet-up/
CATEGORIES:Crafting,Quilting,Sewing & Textiles,Textiles,Workshop
ATTACH;FMTTYPE=image/jpeg:https://cornishcraftbarn.com/wp-content/uploads/2026/03/WHITE_BANNER-Love-Janome.jpg
END:VEVENT
BEGIN:VEVENT
DTSTART;TZID=Europe/London:20260618T100000
DTEND;TZID=Europe/London:20260618T130000
DTSTAMP:20260423T034124
CREATED:20260404T122358Z
LAST-MODIFIED:20260416T220254Z
UID:10000070-1781776800-1781787600@cornishcraftbarn.com
SUMMARY:Dragonfly and Swallow Willow Weaving
DESCRIPTION:This is the perfect willow workshop for beginners to weaving\, as well as an opportunity for those who may have used willow before to learn some more skills and create two wonderful crafts using sustainably grown willow\nThe workshop covers a few different styles and techniques involved in willow weaving\, and Jasmine will guide you through every step in order to take home your dragonfly and swallow\nPlease note this workshop isn’t suitable for under 16 year olds due to the fiddly nature of weaving\nEverything you need will be provided you just need to bring yourself and some comfy clothes\n   \n\n\n\nWillow Examples\n\n\n\n\n\nWhat You’ll Learn\n\n\n\n\nWillow Weaving Skills\n\n\n\nHow to care for your willow\n\n\n\n\nWhat’s Included\n\n\n\n\nAll materials and tools\n\n\n\nExpert tuition throughout\n\n\n\nTea\, coffee & homemade cake\n\n\n\nYour finished piece to take home\n\n\n\n\n\n\n\n\nWorkshop Details\n\n\n\n\nDate: Thursday 18 June 2026\n\n\n\nTime: 10:00am (3 hours)\n\n\n\nSkill Level: Beginner\n\n\n\nPrice: £45.00 per person\n\n\n\nPlaces: 10 maximum\n\n\n\nTutor: Jasmine Fassenfelt
URL:https://cornishcraftbarn.com/event/dragonfly-and-swallow-willow-weaving/
LOCATION:Cornish Craft Barn\, The Gwel\, Kea Downs Road\, Blackwater\, Truro\, Cornwall\, TR4 8PA\, United Kingdom
CATEGORIES:Art,Botanical,Crafting,Entertainment,Mixed Media,Workshop
ATTACH;FMTTYPE=image/png:https://cornishcraftbarn.com/wp-content/uploads/2026/04/Screenshot-2026-03-13-at-12.21.38-1.png
END:VEVENT
END:VCALENDAR