BEGIN:VCALENDAR
VERSION:2.0
PRODID:-//Cornish Craft Barn - ECPv6.15.20//NONSGML v1.0//EN
CALSCALE:GREGORIAN
METHOD:PUBLISH
X-ORIGINAL-URL:https://cornishcraftbarn.com
X-WR-CALDESC:Events for Cornish Craft Barn
REFRESH-INTERVAL;VALUE=DURATION:PT1H
X-Robots-Tag:noindex
X-PUBLISHED-TTL:PT1H
BEGIN:VTIMEZONE
TZID:Europe/London
BEGIN:DAYLIGHT
TZOFFSETFROM:+0000
TZOFFSETTO:+0100
TZNAME:BST
DTSTART:20250330T010000
END:DAYLIGHT
BEGIN:STANDARD
TZOFFSETFROM:+0100
TZOFFSETTO:+0000
TZNAME:GMT
DTSTART:20251026T010000
END:STANDARD
BEGIN:DAYLIGHT
TZOFFSETFROM:+0000
TZOFFSETTO:+0100
TZNAME:BST
DTSTART:20260329T010000
END:DAYLIGHT
BEGIN:STANDARD
TZOFFSETFROM:+0100
TZOFFSETTO:+0000
TZNAME:GMT
DTSTART:20261025T010000
END:STANDARD
BEGIN:DAYLIGHT
TZOFFSETFROM:+0000
TZOFFSETTO:+0100
TZNAME:BST
DTSTART:20270328T010000
END:DAYLIGHT
BEGIN:STANDARD
TZOFFSETFROM:+0100
TZOFFSETTO:+0000
TZNAME:GMT
DTSTART:20271031T010000
END:STANDARD
END:VTIMEZONE
BEGIN:VEVENT
DTSTART;TZID=Europe/London:20260422T100000
DTEND;TZID=Europe/London:20260422T130000
DTSTAMP:20260422T183911
CREATED:20260316T125605Z
LAST-MODIFIED:20260401T093557Z
UID:10000041-1776852000-1776862800@cornishcraftbarn.com
SUMMARY:Acrylics for Beginners - Bold\, Fast & Loose!
DESCRIPTION:Bold\, fast and loose technique\n\n\n\n\n\n\n\nWe will spend a fun-filled half-day immersed in the world of acrylics for beginners\, which will include impasto techniques. We will establish a base set of acrylic painting skills and then deconstruct and simplify objects and references\, enabling us to capture them in acrylics using thickly laid passages of paint\, either with a brush or a palette knife. \n\n\n\nBy the end of the morning\, we will have developed confidence in using acrylics and also applying paint thickly to the canvas\, incorporating some on-canvas mixing and blending\, without creating a muddy texture. We’ll get a bit messy\, have loads of fun\, kickstart a new painting habit (and technique)\, and enjoy cake from the café! What could be better? No previous experience is necessary; a no-excuse price with materials provided! \n\n\n\nThe morning will be filled with fast-paced learning exercises and mini-tutorials to entertain and help you make significant strides in your confidence and control in this interesting and freeing technique. \n\n\n\n\nImpasto is a technique used in painting\, where paint is laid on an area of the surface thickly\, usually thick enough that the brush or painting-knife strokes are visible. Paint can also be mixed right on the canvas. When dry\, impasto provides texture; the paint appears to be coming out of the canvas. (Wikipedia) \n\n\n\n\n\nBold\, fast and loose technique
URL:https://cornishcraftbarn.com/event/acrylics-for-beginners-bold-fast-loose-2/
LOCATION:Cornish Craft Barn\, The Gwel\, Kea Downs Road\, Blackwater\, Truro\, Cornwall\, TR4 8PA\, United Kingdom
CATEGORIES:Acrylics
ATTACH;FMTTYPE=image/jpeg:https://cornishcraftbarn.com/wp-content/uploads/2026/03/Acrylics-Kickstarter-BFL-Banner.jpg
END:VEVENT
BEGIN:VEVENT
DTSTART;TZID=Europe/London:20260424T100000
DTEND;TZID=Europe/London:20260424T120000
DTSTAMP:20260422T183911
CREATED:20260419T224013Z
LAST-MODIFIED:20260419T224016Z
UID:10000099-1777024800-1777032000@cornishcraftbarn.com
SUMMARY:Stitch Up
DESCRIPTION:Stitch Up Club here at Cornish Craft Barn. It’s a relaxed\, weekly get-together for anyone who loves—or wants to love—all things stitching and textile arts. \n\n\n\nWhat we all love about it: \n\n\n\n\nThere’s no pressure: you bring your project (or ideas) and work at your own pace\n\n\n\nThe vibe is warm\, informal\, and friendly — perfect for chatting\, sharing tips\, or just enjoying creative company\n\n\n\nIt’s open to all levels: absolute beginner\, intermediate\, or seasoned stitcher\n\n\n\nYou get to see what others are up to — it’s inspiring and encouraging\n\n\n\nCake\, we always have cake and lots of coffeeThere’s something so soothing about settling in with needle and thread\, a cuppa nearby\, and time to just make. If you’ve ever been curious to try something new (embroidery\, quilting\, mending\, whatever)\, this might be your kind of space. We have huge tables to lay out projects on or put quilts together on\, and sewing machines and overlockers you can use. The view’s not too bad either 
URL:https://cornishcraftbarn.com/event/stitch-up-2/
LOCATION:Cornish Craft Barn\, The Gwel\, Kea Downs Road\, Blackwater\, Truro\, Cornwall\, TR4 8PA\, United Kingdom
ATTACH;FMTTYPE=image/jpeg:https://cornishcraftbarn.com/wp-content/uploads/2022/08/Training-Room-1024x768-1-4.jpg
END:VEVENT
BEGIN:VEVENT
DTSTART;TZID=Europe/London:20260424T130000
DTEND;TZID=Europe/London:20260424T153000
DTSTAMP:20260422T183911
CREATED:20260316T125606Z
LAST-MODIFIED:20260408T184642Z
UID:10000042-1777035600-1777044600@cornishcraftbarn.com
SUMMARY:Macramé Tote or Wallhanging
DESCRIPTION:Learn Macramé skills whilst personalising a tote bag or wall hanging. \n\n\n\n\n\n\n\n\n\n\n\n\n\n\n\n\n\n\n\n\n\n\n\n\n\nTab 1\n\n\n\n\n\n\n\n\n\nExpand your Macramé skills whilst personalising a tote bag or wall hangingWorkshop OverviewIn this workshop we will be learning a few Macramé knots to create a stylish boho fringe for adding to a Tote bag of your choice.There will be plenty of opportunity to style your bag just the way you want it – adding embellishment along the way.We have a choice of cotton tote bags available\, but if you have one already at home that you would like to add your Macramé design to\, please bring it along. The only requirement is that the bag is made from material such as cotton\, canvas or denim.The Macramé fringe will be stitched onto the bag but is easily removed later if required.If you do not have a need for a new bag\, you can instead add your fringe design to a wooden pole or hoop and create a stylish wall hanging.This relaxed and friendly workshop is perfect for those with a basic understanding of Macramé but is looking for their next textile art project.Under the guidance of Lucy\, you’ll learn a few basic knots and techniques of Macramé and go home with a boho chic Macramé design.What’s included:Step-by-step tuition in a fun and welcoming environmentAll Macramé yarns\, beads and accessories providedRefreshments from the Craft Barn Café included in the workshop10% discount off any cafe purchases on the day if you fancy staying for lunch after the workshop or grabbing breakfast before it!Your own unique handmade craft to take homeIf you catch the Macramé bug\, you’ll also find a selection of other Macramé craft kits and tutorials available to purchase in the Craft Barn gift shop.Spaces are limited so book early to secure your place.Price £30About the tutorLucy from Hearts and Pearls is a self-taught Macramé artist based in Falmouth. Grown from a hobby\, her business specialises in propagating rare trailing semi-succulent plants\, including the popular String of Hearts and Pearls\, and through this\, she first explored making decorative plant hangers from Macramé yarn. Having experimented with various projects over the years\, she now runs Macramé workshops in the local area. She designs tutorials for others to learn the basics of this historic art form\, some of which are available to purchase in the Craft Barn gift shop.
URL:https://cornishcraftbarn.com/event/macrame-tote-or-wallhanging/
LOCATION:Cornish Craft Barn\, The Gwel\, Kea Downs Road\, Blackwater\, Truro\, Cornwall\, TR4 8PA\, United Kingdom
CATEGORIES:Sewing & Textiles
ATTACH;FMTTYPE=image/jpeg:https://cornishcraftbarn.com/wp-content/uploads/2026/03/Website-image-6.jpg
END:VEVENT
BEGIN:VEVENT
DTSTART;TZID=Europe/London:20260427T100000
DTEND;TZID=Europe/London:20260427T150000
DTSTAMP:20260422T183911
CREATED:20260406T202630Z
LAST-MODIFIED:20260412T104337Z
UID:10000075-1777284000-1777302000@cornishcraftbarn.com
SUMMARY:Impressionist Acrylics Techniques
DESCRIPTION:
URL:https://cornishcraftbarn.com/event/impressionist-acrylics-urban-scenes/
LOCATION:Cornish Craft Barn\, The Gwel\, Kea Downs Road\, Blackwater\, Truro\, Cornwall\, TR4 8PA\, United Kingdom
ATTACH;FMTTYPE=image/jpeg:https://cornishcraftbarn.com/wp-content/uploads/2026/04/Impressionism_Acrylics-27-April-WD.jpg
END:VEVENT
BEGIN:VEVENT
DTSTART;TZID=Europe/London:20260428T100000
DTEND;TZID=Europe/London:20260428T150000
DTSTAMP:20260422T183911
CREATED:20260419T175544Z
LAST-MODIFIED:20260420T082051Z
UID:10000164-1777370400-1777388400@cornishcraftbarn.com
SUMMARY:Bag Club – New Monthly Meet-up!
DESCRIPTION:New Monthly Meet-up! \n\n\n\nBag Club at The Cornish Craft Barn \n\n\n\n\n\n\n\n\n\n£30.00 Includes cake from our cafe and tea/coffee \n\n\n\nCalling all sewists\, makers\, and “I-need-more-pockets” enthusiasts! Whether you’re a seasoned pro or have never touched a sewing machine\, we’re launching a brand new monthly Bag Club. \n\n\n\nEvery month\, we’ll gather at the Barn to: \n\n\n\n\nWork on Your Own Projects: Bring that half-finished tote or that favorite repair you’ve been meaning to get to.\n\n\n\nThe Group Project: We’ll sometimes also work together on a simple\, fun bag project—perfect for learning new skills in a relaxed environment.\n\n\n\nTalk Shop: Hardware\, fabrics\, patterns\, and inspiration—all things bag-related!\n\n\n\nAccess our resources\, patterns\, industrial sewing machine\, overlocker\, rivet press etc to help your bag making get that professional edge.\n\n\n\n\nOn 28 April if you would like to take part we will be making a pocket tote bag\, this is optional if you want to work on your own projects that’s fine too. The tote bag doesnt need any hardward but will need : Lining/Outer: 1m\, Pockets: 0.7m Straps: 0.3m cotton fabric or straps or webbing\, Interfacing: 1m of fusible medium-weight interfacing.
URL:https://cornishcraftbarn.com/event/bag-club-new-monthly-meet-up/
LOCATION:Cornwall
CATEGORIES:Crafting,Quilting,Sewing & Textiles,Textiles,Workshop
ATTACH;FMTTYPE=image/jpeg:https://cornishcraftbarn.com/wp-content/uploads/2026/03/WHITE_BANNER-Love-Janome.jpg
END:VEVENT
BEGIN:VEVENT
DTSTART;TZID=Europe/London:20260429T100000
DTEND;TZID=Europe/London:20260429T130000
DTSTAMP:20260422T183911
CREATED:20260316T125608Z
LAST-MODIFIED:20260316T132031Z
UID:10000044-1777456800-1777467600@cornishcraftbarn.com
SUMMARY:Watercolour Ink & Wash Travel Journalling Half Day Workshop!
DESCRIPTION:Learn to ink and wash like Danny Gregory and Felix Scheinburger. Capture your memories\, whether daily journalling\, meals and experiences out and about or a journal dedicated to your travel trips.
URL:https://cornishcraftbarn.com/event/watercolour-ink-wash-travel-journalling-half-day-workshop-2/
LOCATION:Cornish Craft Barn\, The Gwel\, Kea Downs Road\, Blackwater\, Truro\, Cornwall\, TR4 8PA\, United Kingdom
CATEGORIES:Inks,Watercolour
ATTACH;FMTTYPE=image/jpeg:https://cornishcraftbarn.com/wp-content/uploads/2026/03/Watercolour-Travel-Journalling1920x1080.jpg
END:VEVENT
END:VCALENDAR