BEGIN:VCALENDAR
VERSION:2.0
PRODID:-//Cornish Craft Barn - ECPv6.15.20//NONSGML v1.0//EN
CALSCALE:GREGORIAN
METHOD:PUBLISH
X-WR-CALNAME:Cornish Craft Barn
X-ORIGINAL-URL:https://cornishcraftbarn.com
X-WR-CALDESC:Events for Cornish Craft Barn
REFRESH-INTERVAL;VALUE=DURATION:PT1H
X-Robots-Tag:noindex
X-PUBLISHED-TTL:PT1H
BEGIN:VTIMEZONE
TZID:Europe/London
BEGIN:DAYLIGHT
TZOFFSETFROM:+0000
TZOFFSETTO:+0100
TZNAME:BST
DTSTART:20250330T010000
END:DAYLIGHT
BEGIN:STANDARD
TZOFFSETFROM:+0100
TZOFFSETTO:+0000
TZNAME:GMT
DTSTART:20251026T010000
END:STANDARD
BEGIN:DAYLIGHT
TZOFFSETFROM:+0000
TZOFFSETTO:+0100
TZNAME:BST
DTSTART:20260329T010000
END:DAYLIGHT
BEGIN:STANDARD
TZOFFSETFROM:+0100
TZOFFSETTO:+0000
TZNAME:GMT
DTSTART:20261025T010000
END:STANDARD
BEGIN:DAYLIGHT
TZOFFSETFROM:+0000
TZOFFSETTO:+0100
TZNAME:BST
DTSTART:20270328T010000
END:DAYLIGHT
BEGIN:STANDARD
TZOFFSETFROM:+0100
TZOFFSETTO:+0000
TZNAME:GMT
DTSTART:20271031T010000
END:STANDARD
END:VTIMEZONE
BEGIN:VEVENT
DTSTART;TZID=Europe/London:20260513T100000
DTEND;TZID=Europe/London:20260513T130000
DTSTAMP:20260423T014737
CREATED:20260419T151820Z
LAST-MODIFIED:20260419T160320Z
UID:10000102-1778666400-1778677200@cornishcraftbarn.com
SUMMARY:Make a Raggy Quilt – A Relaxed Sewing Workshop!
DESCRIPTION:Join us for a relaxed but full morning of tuition on the techniques and stages involved in creating a beautiful textured raggy quilt. Depending on how big you want your quilt – you may not finish your quilt in this session but will leave with a good start made on your quilt in this fun workshop that you can then easily carry on at home and keep making it as big as you choose.   \n\n\n\nThis makes an ideal lap quilt\, baby cot quilt\, picnic blanket. They are very versatile quilts and hardwearing and need to be used and not just admired! 1 charm pack will make a small quilt of 25″x29″\, 2 charm packs would be 37″x37″ which is standard baby size. \n\n\n\nWhat you’ll get: *Step-by-step tuition in raggy quilt techniques*Guidance suitable for beginners*A relaxed\, social sewing environment*Quilting techniques*Expert tuition throughout*Tea\, coffee & homemade cake \n\n\n\nWhat you need to bring: Depending on how big you want your quilt to be; and you can easily extend it after the workshop as a minimum for the morning we need:  \n\n\n\n*For the Top of Quilt – At least 1 Charm Pack of Quilting Cotton Fabric\, these are normally 40 or 42 x 5″ squares – I can help you source these if stuck\, don’t worry. *For the Back – 1m Backing plain Fabric of same quantity per pack of charm squares*1m of cotton flannel or batting/wadding – cotton\, bamboo\, recycled is fine. Not polyester. *Sewing machine – bring your own or you can borrow one *2 bobbins ready wound for your machine*Good quality cotton thread 1000m or 2 spools \, (not a cheap one) in a neutral matching colour to your fabrics\, i often like pale taupe or pale grey\, I normally avoid white.  *Sharp scissors\, large and small\, and spring loaded snips/scissors if you have them*Rotary Cutter\, rulers and basic sewing kit
URL:https://cornishcraftbarn.com/event/create-a-raggy-quilt-a-relaxed-sewing-workshop-2/
LOCATION:Cornish Craft Barn\, The Gwel\, Kea Downs Road\, Blackwater\, Truro\, Cornwall\, TR4 8PA\, United Kingdom
ATTACH;FMTTYPE=image/jpeg:https://cornishcraftbarn.com/wp-content/uploads/2026/04/7F13B178-06D8-47D1-87AC-89F11FBCB692_1_105_c.jpeg
END:VEVENT
BEGIN:VEVENT
DTSTART;TZID=Europe/London:20260516T100000
DTEND;TZID=Europe/London:20260516T170000
DTSTAMP:20260423T014737
CREATED:20260411T203040Z
LAST-MODIFIED:20260411T204234Z
UID:10000096-1778925600-1778950800@cornishcraftbarn.com
SUMMARY:Make your own Dungarees
DESCRIPTION:This one-day workshop will teach you all the processes involved in making this very popular dungaree pattern from cutting to stitching and fitting. I will also walk you through my own personal method for facing them\, so that you retain the nice drape around the arm-holes but avoid the broken needles…\n\nSuitable for all skill levels\, we will ask you to cut your pattern pieces before you come; but we can provide guidance for this or you are welcome to pop in to the workshop for an hour to use our space. You will also need to purchase your own copy of the hey days Dungaree pattern from Wild and Waves\, which is £8.50 for the pdf download. We can help with info for having this professionally printed or you can print at home.  \n 
URL:https://cornishcraftbarn.com/event/make-your-own-dungarees/
LOCATION:Cornish Craft Barn\, The Gwel\, Kea Downs Road\, Blackwater\, Truro\, Cornwall\, TR4 8PA\, United Kingdom
ATTACH;FMTTYPE=image/jpeg:https://cornishcraftbarn.com/wp-content/uploads/2026/04/Hero-Image.jpg
END:VEVENT
BEGIN:VEVENT
DTSTART;TZID=Europe/London:20260518T090000
DTEND;TZID=Europe/London:20260518T121500
DTSTAMP:20260423T014737
CREATED:20260316T125623Z
LAST-MODIFIED:20260419T172502Z
UID:10000051-1779094800-1779106500@cornishcraftbarn.com
SUMMARY:May Fused Glass Workshop
DESCRIPTION:Get creative this spring with our Fused Glass Workshop at the Cornish Craft Barn.A hands-on\, relaxed workshop where you’ll learn the basics of fused glass and make 3 of your own colourful unique designs. \n\n\n\n \n\n\n\nDuring this relaxed and hands-on session\, you’ll learn how to cut\, layer and design glass to create your own unique pieces. You will make at least three beautiful glass projects to take home and treasure or gift to someone special.   \n\n\n\nProjects will be taken to be fired and will be usually ready to collect about a week later.  \n\n\n\nAll materials and tools are provided and no previous experience is needed –  just come along\, have fun and discover the magic of fused glass! \n\n\n\nYour tutor is an experienced Adult Education tutor who has been teaching glasswork for nearly fourteen years and academic courses for over seventeen years. Passionate about sharing her craft\, she’ll guide you step by step through the process\, offering plenty of tips and inspiration along the way. \n\n\n\nPlease note: \n\n\n\n\nWear old clothes and bring an apron\n\n\n\nNo open-toed shoes\, please\n\n\n\nLong hair must be tied back for safety\n\n\n\n\nCome and spend a joyful morning learning a new skill\, meeting like-minded makers\, and getting into the festive spirit. \n\n\n\n All materials included – no experience necessary! \n\n\n\nAbout the Tutor – Liz Simpson\n\n\n\nLiz Simpson is an experienced and passionate glass artist and Adult Education tutor. \n\n\n\nHer friendly\, hands-on approach makes learning both enjoyable and accessible\, whether you’re a complete beginner or a returning maker. Liz loves helping people discover the joy of working with glass; from the first satisfying score and snap to the sparkle of a finished piece fresh from the kiln. \n\n\n\nWhen she’s not teaching\, Liz continues to explore her own creative practice\, experimenting with colour\, light and texture to produce stunning glass artworks inspired by the beauty of the Cornish landscape.
URL:https://cornishcraftbarn.com/event/may-fused-glass-workshop/
LOCATION:Cornish Craft Barn\, The Gwel\, Kea Downs Road\, Blackwater\, Truro\, Cornwall\, TR4 8PA\, United Kingdom
CATEGORIES:Art,Crafting
ATTACH;FMTTYPE=image/jpeg:https://cornishcraftbarn.com/wp-content/uploads/2026/03/20250504_200600-scaled-1.jpg
END:VEVENT
BEGIN:VEVENT
DTSTART;TZID=Europe/London:20260519T130000
DTEND;TZID=Europe/London:20260519T153000
DTSTAMP:20260423T014737
CREATED:20260322T111420Z
LAST-MODIFIED:20260322T185758Z
UID:10000059-1779195600-1779204600@cornishcraftbarn.com
SUMMARY:Macramé Plant hanger
DESCRIPTION:Create a Macramé Plant Hanger in your favourite colour. \n£30.00 Includes all materials and refreshments \nIn this workshop we will be learning a few Macramé knots to create a stylish medium-sized plant hanger for indoor use. If there is time we will also create a miniature version with a faux plant\, suitable as a car charm or window decoration. \nPlenty of colours available\, ranging from earthy tones to the brights. Why not create something practical which you will be able to hang straight away. If you have a plant pot that you have in mind for your medium-sized hanger\, why not bring it along\, so you can ensure it is sized accordingly. \nThis relaxed and friendly workshop is perfect for those with a basic understanding of Macramé but is looking for their next textile art project. Under the guidance of Lucy\, you’ll learn a few basic knots and techniques of Macramé and go home with a useful Macramé design. \nWhat’s included:\n\nStep-by-step tuition in a fun and welcoming environment\nAll Macramé yarns\, beads and accessories provided\nRefreshments from the Craft Barn Café included in the workshop\n10% discount off any cafe purchases on the day\nYour own unique handmade craft to take home\n\nIf you catch the Macramé bug\, you’ll also find a selection of other Macramé craft kits and tutorials available to purchase in the Craft Barn gift shop. Spaces are limited so book early to secure your place. \nAbout the Tutor\nLucy from Hearts and Pearls is a self-taught Macramé artist based in Falmouth. Grown from a hobby\, her business specialises in propagating rare trailing semi-succulent plants\, including the popular String of Hearts and Pearls\, and through this\, she first explored making decorative plant hangers from Macramé yarn. Having experimented with various projects over the years\, she now runs Macramé workshops in the local area.
URL:https://cornishcraftbarn.com/event/macrame-plant-hanger/
LOCATION:Cornish Craft Barn\, The Gwel\, Kea Downs Road\, Blackwater\, Truro\, Cornwall\, TR4 8PA\, United Kingdom
CATEGORIES:Textiles
ATTACH;FMTTYPE=image/png:https://cornishcraftbarn.com/wp-content/uploads/2026/03/Website-image-Plant-Hangers-1.png
END:VEVENT
BEGIN:VEVENT
DTSTART;TZID=Europe/London:20260520T100000
DTEND;TZID=Europe/London:20260520T170000
DTSTAMP:20260423T014737
CREATED:20260411T205137Z
LAST-MODIFIED:20260411T205330Z
UID:10000097-1779271200-1779296400@cornishcraftbarn.com
SUMMARY:Bag Making Workshop...Save the Date
DESCRIPTION:More details to come but this will be an all day workshop to make a bag from pattern.
URL:https://cornishcraftbarn.com/event/bag-making-workshop-save-the-date/
LOCATION:Cornish Craft Barn\, The Gwel\, Kea Downs Road\, Blackwater\, Truro\, Cornwall\, TR4 8PA\, United Kingdom
ATTACH;FMTTYPE=image/jpeg:https://cornishcraftbarn.com/wp-content/uploads/2026/03/CCB-Countryside-scaled-600x450-1.jpg
END:VEVENT
BEGIN:VEVENT
DTSTART;TZID=Europe/London:20260521T100000
DTEND;TZID=Europe/London:20260521T160000
DTSTAMP:20260423T014737
CREATED:20260316T125624Z
LAST-MODIFIED:20260316T132020Z
UID:10000052-1779357600-1779379200@cornishcraftbarn.com
SUMMARY:Wheal Friendly Stitch Club - 3rd Thursday Monthly
DESCRIPTION:Welcome to one of our many Cornish Craft Barn Stitch Groups. We run several regular groups that meet once a month.  If you’re interested in joining one\, please contact us or book in to attend if we have spaces available.   \n\n\n\nThis is an all-day session where you can work on quilting projects on machines or by hand with other quilters who are looking to share ideas and experience and can provide guidance for each other – plus lots of lovely chat\, cake and coffee!  It is not a ‘tutored’ session but a room filled with abundant expertise from which to seek assistance. We can offer short demonstrations or mini projects from time to time if this is something the group decides they want!  \n\n\n\nThe session runs from 10am – 4pm but feel free to attend as much of this as you can to fit in with your other commitments. Lunch can be bought from the cafe with a 10% discount.  Plenty of parking outside and we can give you a hand to get your machines upstairs to the training room if needed.  \n\n\n\nWe have several new Janome quilting sewing machines available to borrow for the day if you need one or find it easier than bringing one in from home. The cost is £4 per day. Please book ahead or let us know if you need one so we make sure we have enough available. We ask for payment quarterly in advance £15 per session\, so £45 which covers three sessions for you. We close for August s
URL:https://cornishcraftbarn.com/event/wheal-friendly-stitch-club-3rd-thursday-monthly-3/
LOCATION:Cornish Craft Barn\, The Gwel\, Kea Downs Road\, Blackwater\, Truro\, Cornwall\, TR4 8PA\, United Kingdom
CATEGORIES:Crafting,Quilting,Sewing & Textiles,Textiles
ATTACH;FMTTYPE=image/jpeg:https://cornishcraftbarn.com/wp-content/uploads/2026/03/Wheal-Friendly-Banner-Sewing-1.jpg
END:VEVENT
BEGIN:VEVENT
DTSTART;TZID=Europe/London:20260527T100000
DTEND;TZID=Europe/London:20260527T113000
DTSTAMP:20260423T014737
CREATED:20260316T125625Z
LAST-MODIFIED:20260411T195557Z
UID:10000053-1779876000-1779881400@cornishcraftbarn.com
SUMMARY:Macramé Mermaids
DESCRIPTION:A special Half Term Holiday workshop that focuses on the art of Macramé. \n\n\n\n\n\n \n\n\n\n\n\n\n\nWorkshop Overview \n\n\n\nIn this short workshop we will be making Mermaids/Mermen. \n\n\n\nThis relaxed and friendly workshop is perfect for complete beginners as well as those looking for their next textile art project. \n\n\n\nUnder the guidance of Lucy\, you’ll learn a few basic knots and techniques of Macramé and go home with a wall hanging mythical creature. Due to the beads and other small accessories used in the making process\, these Mermaids/Mermen will not be suitable as toys or gifts for the younger audience. \n\n\n\nThis workshop is suitable for 9+years when accompanied by an adult. The session would make a great activity to enjoy together. \n\n\n\nWhat colour yarn will you choose? \n\n\n\nWhat name will you give them? \n\n\n\nWill you decorate them with seashells – do you have any bring along? \n\n\n\nWhat’s included: \n\n\n\n\nStep-by-step tuition in a fun and welcoming environment\n\n\n\nAll Macramé yarns and accessories provided\n\n\n\n10% discount off any cafe purchases on the day if you fancy staying for lunch after the workshop or grabbing breakfast before it!\n\n\n\nYour own unique handmade crafts to take home\n\n\n\n\nNo previous experience is necessary – absolute beginners are very welcome. If you catch the Macramé bug\, you’ll also find a selection of other Macramé craft kits and tutorials available to purchase in the Craft Barn gift shop. \n\n\n\nSpaces are limited so book early to secure your place. \n\n\n\n\n\n\n\n\n\n\n\n\n\n\n\n\n\n\n\n\n\nAbout the tutorLucy from Hearts and Pearls is a self-taught Macramé artist based in Falmouth. Grown from a hobby\, her business specialises in propagating rare trailing semi-succulent plants\, including the popular String of Hearts and Pearls\, and through this\, she first explored making decorative plant hangers from Macramé yarn. Having experimented with various projects over the years\, she now runs Macramé workshops in the local area. She designs tutorials for others to learn the basics of this historic art form\, some of which are available to purchase in the Craft Barn gift shop.
URL:https://cornishcraftbarn.com/event/macrame-mermaids/
LOCATION:Cornish Craft Barn\, The Gwel\, Kea Downs Road\, Blackwater\, Truro\, Cornwall\, TR4 8PA\, United Kingdom
CATEGORIES:Sewing & Textiles
ATTACH;FMTTYPE=image/jpeg:https://cornishcraftbarn.com/wp-content/uploads/2026/03/Website-image-7.jpg
END:VEVENT
BEGIN:VEVENT
DTSTART;TZID=Europe/London:20260608T100000
DTEND;TZID=Europe/London:20260608T150000
DTSTAMP:20260423T014737
CREATED:20260316T125625Z
LAST-MODIFIED:20260316T132019Z
UID:10000054-1780912800-1780930800@cornishcraftbarn.com
SUMMARY:How to use your sewing machine
DESCRIPTION:Let’s get sewing….one day workshop to give you confidence and unleash your creativity \n\n\n\n\n\nDo you have a machine gathering dust? Lost under the stairs?  \n\n\n\nWant to sew but don’t know where to start? Put off by the thought of trying to use your machine?  \n\n\n\nThen this workshop is for you!!  \n\n\n\nWe’ll have a fun and relaxed day exploring the functions and features of sewing machines and learn what they can do and start to learn how to make and create gifts and items using fabric and cotton.
URL:https://cornishcraftbarn.com/event/how-to-use-your-sewing-machine-2/
LOCATION:Cornish Craft Barn\, The Gwel\, Kea Downs Road\, Blackwater\, Truro\, Cornwall\, TR4 8PA\, United Kingdom
CATEGORIES:Crafting,Quilting,Textiles
ATTACH;FMTTYPE=image/jpeg:https://cornishcraftbarn.com/wp-content/uploads/2026/03/detailed-view-of-a-hand-operating-a-sewing-machine-with-fine-thread.-6660915-scaled-1.jpg
END:VEVENT
BEGIN:VEVENT
DTSTART;TZID=Europe/London:20260618T100000
DTEND;TZID=Europe/London:20260618T130000
DTSTAMP:20260423T014737
CREATED:20260404T122358Z
LAST-MODIFIED:20260416T220254Z
UID:10000070-1781776800-1781787600@cornishcraftbarn.com
SUMMARY:Dragonfly and Swallow Willow Weaving
DESCRIPTION:This is the perfect willow workshop for beginners to weaving\, as well as an opportunity for those who may have used willow before to learn some more skills and create two wonderful crafts using sustainably grown willow\nThe workshop covers a few different styles and techniques involved in willow weaving\, and Jasmine will guide you through every step in order to take home your dragonfly and swallow\nPlease note this workshop isn’t suitable for under 16 year olds due to the fiddly nature of weaving\nEverything you need will be provided you just need to bring yourself and some comfy clothes\n   \n\n\n\nWillow Examples\n\n\n\n\n\nWhat You’ll Learn\n\n\n\n\nWillow Weaving Skills\n\n\n\nHow to care for your willow\n\n\n\n\nWhat’s Included\n\n\n\n\nAll materials and tools\n\n\n\nExpert tuition throughout\n\n\n\nTea\, coffee & homemade cake\n\n\n\nYour finished piece to take home\n\n\n\n\n\n\n\n\nWorkshop Details\n\n\n\n\nDate: Thursday 18 June 2026\n\n\n\nTime: 10:00am (3 hours)\n\n\n\nSkill Level: Beginner\n\n\n\nPrice: £45.00 per person\n\n\n\nPlaces: 10 maximum\n\n\n\nTutor: Jasmine Fassenfelt
URL:https://cornishcraftbarn.com/event/dragonfly-and-swallow-willow-weaving/
LOCATION:Cornish Craft Barn\, The Gwel\, Kea Downs Road\, Blackwater\, Truro\, Cornwall\, TR4 8PA\, United Kingdom
CATEGORIES:Art,Botanical,Crafting,Entertainment,Mixed Media,Workshop
ATTACH;FMTTYPE=image/png:https://cornishcraftbarn.com/wp-content/uploads/2026/04/Screenshot-2026-03-13-at-12.21.38-1.png
END:VEVENT
BEGIN:VEVENT
DTSTART;TZID=Europe/London:20260622T100000
DTEND;TZID=Europe/London:20260622T130000
DTSTAMP:20260423T014737
CREATED:20260322T111434Z
LAST-MODIFIED:20260411T195943Z
UID:10000060-1782122400-1782133200@cornishcraftbarn.com
SUMMARY:Macrame Daisies
DESCRIPTION:A half-day 10am to 1pm workshop that focuses on the ancient art of Macramé. \n£30.00 Includes cake from our cafe and tea/coffee \nA special floral workshop\, which will be making two different projects: a daisy keychain and a daisy / floral mini wall hanging. \nWorkshop Overview\nCelebrate the beauty of nature in this workshop where we will be focussing on two ‘daisy’ projects: A daisy-chain keychain and a miniature floral wall hanging. \nThis relaxed and friendly workshop is perfect for complete beginners as well as those looking for their next textile art project. Under the guidance of Lucy\, you’ll learn a few basic knots and techniques of Macramé and go home with a keychain and wall hanging in a choice of colourful yarns. Perfect gift for a loved one or instead keep for yourself. \nWhat’s included:\n\nStep-by-step tuition in a fun and welcoming environment\nAll Macramé yarns\, beads and accessories provided\nRefreshments from the Craft Barn Café included in the workshop\n10% discount off any cafe purchases on the day\nYour own unique handmade pieces to take home and gift\n\nNo previous experience is necessary – absolute beginners are very welcome. If you catch the Macramé bug\, you’ll also find a selection of other Macramé craft kits and tutorials available to purchase in the Craft Barn gift shop. Spaces are limited so book early to secure your place. \nAbout the Tutor\nLucy from Hearts and Pearls is a self-taught Macramé artist based in Falmouth. Grown from a hobby\, her business specialises in propagating rare trailing semi-succulent plants\, including the popular String of Hearts and Pearls\, and through this\, she first explored making decorative plant hangers from Macramé yarn. Having experimented with various projects over the years\, she now runs Macramé workshops in the local area.
URL:https://cornishcraftbarn.com/event/macrame-daisies/
LOCATION:Cornwall
CATEGORIES:Botanical,Textiles
ATTACH;FMTTYPE=image/png:https://cornishcraftbarn.com/wp-content/uploads/2026/03/Website-Daisy-Workshop.png
END:VEVENT
BEGIN:VEVENT
DTSTART;TZID=Europe/London:20260915T100000
DTEND;TZID=Europe/London:20260915T150000
DTSTAMP:20260423T014737
CREATED:20260316T125626Z
LAST-MODIFIED:20260416T215528Z
UID:10000055-1789466400-1789484400@cornishcraftbarn.com
SUMMARY:How to use your sewing machine
DESCRIPTION:Let’s get sewing….one day workshop to give you confidence and unleash your creativity \n\n\n\n\n\nDo you have a machine gathering dust? Lost under the stairs?  \n\n\n\nWant to sew but don’t know where to start? Put off by the thought of trying to use your machine?  \n\n\n\nThen this workshop is for you!!  \n\n\n\nWe’ll have a fun and relaxed day exploring the functions and features of sewing machines and learn what they can do and start to learn how to make and create gifts and items using fabric and cotton.
URL:https://cornishcraftbarn.com/event/how-to-use-your-sewing-machine-3/
LOCATION:Cornish Craft Barn\, The Gwel\, Kea Downs Road\, Blackwater\, Truro\, Cornwall\, TR4 8PA\, United Kingdom
CATEGORIES:Crafting,Quilting,Textiles
ATTACH;FMTTYPE=image/jpeg:https://cornishcraftbarn.com/wp-content/uploads/2026/03/detailed-view-of-a-hand-operating-a-sewing-machine-with-fine-thread.-6660915-scaled-1.jpg
END:VEVENT
END:VCALENDAR